BEGIN:VCALENDAR
VERSION:2.0
PRODID:-//ChamberMaster//Event Calendar 2.0//EN
METHOD:PUBLISH
X-PUBLISHED-TTL:P3D
REFRESH-INTERVAL:P3D
CALSCALE:GREGORIAN
BEGIN:VEVENT
DTSTART:20160826T123000Z
DTEND:20160826T210000Z
X-MICROSOFT-CDO-ALLDAYEVENT:FALSE
SUMMARY:F&M Bank Crossroads 10th Anniversary
DESCRIPTION:Join us for the celebration of our 10th Anniversary! We'll be serving light refreshments in the branch all day. Plus\, giveaways! From 11AM-4PM\, Saucy Dogs Food Truck will be on-site!
X-ALT-DESC;FMTTYPE=text/html:Join us for the celebration of our 10th Anniversary! We&#39\;ll be serving light refreshments in the branch all day. Plus\, giveaways! From 11AM-4PM\, Saucy Dogs Food Truck will be on-site!
LOCATION:80 Cross Keys Road Harrisonburg
UID:e.2338.492
SEQUENCE:3
DTSTAMP:20260422T004621Z
URL:https://chamber.hrchamber.org/events/details/f-m-bank-crossroads-10th-anniversary-08-26-2016-492
END:VEVENT

END:VCALENDAR
