BEGIN:VCALENDAR
VERSION:2.0
PRODID:-//ChamberMaster//Event Calendar 2.0//EN
METHOD:PUBLISH
X-PUBLISHED-TTL:P3D
REFRESH-INTERVAL:P3D
CALSCALE:GREGORIAN
BEGIN:VEVENT
DTSTART:20160409T150000Z
DTEND:20160409T190000Z
X-MICROSOFT-CDO-ALLDAYEVENT:FALSE
SUMMARY:F&M Bank Craigsville Kid's Day
DESCRIPTION:From 11 AM-1PM\, join us for family fun events: games\, food\, face painting\, finger printing\, a presentation by Muscles With Russell\, and much more!\n\n\n\nAt 1 PM\, stick around for our cornhole tournament benefitting Augusta County Relay for Life. $20 per team entry\; call 540-997-4162 to enter!
X-ALT-DESC;FMTTYPE=text/html:From 11 AM-1PM\, join us for family fun events: games\, food\, face painting\, finger printing\, a presentation by Muscles With Russell\, and much more!<br />\n<br />\nAt 1 PM\, stick around for our cornhole tournament benefitting Augusta County Relay for Life. $20 per team entry\; call 540-997-4162 to enter!
LOCATION:Craigsville Park
UID:e.2338.362
SEQUENCE:3
DTSTAMP:20260422T062546Z
URL:https://chamber.hrchamber.org/events/details/f-m-bank-craigsville-kid-s-day-04-09-2016-362
END:VEVENT

END:VCALENDAR
