BEGIN:VCALENDAR
VERSION:2.0
PRODID:-//ChamberMaster//Event Calendar 2.0//EN
METHOD:PUBLISH
X-PUBLISHED-TTL:P3D
REFRESH-INTERVAL:P3D
CALSCALE:GREGORIAN
BEGIN:VEVENT
DTSTART:20181019T190000Z
DTEND:20181019T210000Z
X-MICROSOFT-CDO-ALLDAYEVENT:FALSE
SUMMARY:F&M Bank Coffman's Corner Branch Kid's Day
DESCRIPTION:Prior to the event\, plaster pumpkin banks will be given out for children to decorate.  At the event\, customers will vote on the prettiest pumpkin.  The top three winners will receive a prize!  More details to come!
X-ALT-DESC;FMTTYPE=text/html:<span style="color:rgb(47\, 85\, 151)"><span style="font-size:medium"><span style="font-family:calibri">Prior to the event\, plaster pumpkin banks will be given out for children to decorate.&nbsp\; At the event\, customers will vote on the prettiest pumpkin.&nbsp\; The top three winners will receive a prize!&nbsp\; More details to come!</span></span></span><br />\n&nbsp\;
LOCATION:F&M Bank Coffman's Corner Branch 2030 Legacy Lane\, Harrisonburg\, VA 22801
UID:e.2338.5903
SEQUENCE:3
DTSTAMP:20260420T091519Z
URL:https://chamber.hrchamber.org/events/details/f-m-bank-coffman-s-corner-branch-kid-s-day-5903
END:VEVENT

END:VCALENDAR
