BEGIN:VCALENDAR
VERSION:2.0
PRODID:-//ChamberMaster//Event Calendar 2.0//EN
METHOD:PUBLISH
X-PUBLISHED-TTL:P3D
REFRESH-INTERVAL:P3D
CALSCALE:GREGORIAN
BEGIN:VEVENT
DTSTART:20190426T190000Z
DTEND:20190426T210000Z
X-MICROSOFT-CDO-ALLDAYEVENT:FALSE
SUMMARY:F&M Bank Broadway Shred Day
DESCRIPTION:Protect your identity and shred your documents for free!
X-ALT-DESC;FMTTYPE=text/html:Protect your identity and shred your documents for free!
LOCATION:F&M Bank\, 126 N. Timberway Broadway\, VA 22815
UID:e.2338.6577
SEQUENCE:3
DTSTAMP:20260420T001935Z
URL:https://chamber.hrchamber.org/events/details/f-m-bank-broadway-shred-day-6577
END:VEVENT

END:VCALENDAR
