BEGIN:VCALENDAR
VERSION:2.0
PRODID:-//ChamberMaster//Event Calendar 2.0//EN
METHOD:PUBLISH
X-PUBLISHED-TTL:P3D
REFRESH-INTERVAL:P3D
CALSCALE:GREGORIAN
BEGIN:VEVENT
DTSTART:20170512T190000Z
DTEND:20170512T210000Z
X-MICROSOFT-CDO-ALLDAYEVENT:FALSE
SUMMARY:F&M Bank Bridgewater Shred Day
DESCRIPTION:Protect your identity and shred your personal documents for free! The branch will also be grilling hot dogs and serving chips and drinks.
X-ALT-DESC;FMTTYPE=text/html:Protect your identity and shred your personal documents for free! The branch will also be grilling hot dogs and serving chips and drinks.
LOCATION:100 Plaza Drive Bridgewater\, VA 22812
UID:e.2338.2685
SEQUENCE:3
DTSTAMP:20260419T191926Z
URL:https://chamber.hrchamber.org/events/details/f-m-bank-bridgewater-shred-day-2685
END:VEVENT

END:VCALENDAR
