BEGIN:VCALENDAR
VERSION:2.0
PRODID:-//ChamberMaster//Event Calendar 2.0//EN
METHOD:PUBLISH
X-PUBLISHED-TTL:P3D
REFRESH-INTERVAL:P3D
CALSCALE:GREGORIAN
BEGIN:VEVENT
DTSTART:20160513T190000Z
DTEND:20160513T210000Z
X-MICROSOFT-CDO-ALLDAYEVENT:FALSE
SUMMARY:F&M Bank Bridgewater Shred Day
DESCRIPTION:Protect your identity and shred your personal documents at our free Shred Day!
X-ALT-DESC;FMTTYPE=text/html:Protect your identity and shred your personal documents at our free Shred Day!
LOCATION:100 Plaza Drive Bridgewater
UID:e.2338.396
SEQUENCE:3
DTSTAMP:20260422T045356Z
URL:https://chamber.hrchamber.org/events/details/f-m-bank-bridgewater-shred-day-05-13-2016-396
END:VEVENT

END:VCALENDAR
