BEGIN:VCALENDAR
VERSION:2.0
PRODID:-//ChamberMaster//Event Calendar 2.0//EN
METHOD:PUBLISH
X-PUBLISHED-TTL:P3D
REFRESH-INTERVAL:P3D
CALSCALE:GREGORIAN
BEGIN:VEVENT
DTSTART:20160923T170000Z
DTEND:20160923T200000Z
X-MICROSOFT-CDO-ALLDAYEVENT:FALSE
SUMMARY:F&M Bank Bridgewater Family Fun Day
DESCRIPTION:Join F&M Bank Bridgewater for an afternoon full of family fun! Grammies Ice Cream\, hamburgers and hot dogs off the grill\, Harrisonburg-Rockingham SPCA\, games\, prizes\, pumpkin painting and more!
X-ALT-DESC;FMTTYPE=text/html:Join F&amp\;M Bank Bridgewater for an afternoon full of family fun! Grammies Ice Cream\, hamburgers and hot dogs off the grill\, Harrisonburg-Rockingham SPCA\, games\, prizes\, pumpkin painting and more!
LOCATION:100 Plaza Drive Bridgewater\, VA
UID:e.2338.1497
SEQUENCE:3
DTSTAMP:20260421T232441Z
URL:https://chamber.hrchamber.org/events/details/f-m-bank-bridgewater-family-fun-day-1497
END:VEVENT

END:VCALENDAR
