BEGIN:VCALENDAR
VERSION:2.0
PRODID:-//ChamberMaster//Event Calendar 2.0//EN
METHOD:PUBLISH
X-PUBLISHED-TTL:P3D
REFRESH-INTERVAL:P3D
CALSCALE:GREGORIAN
BEGIN:VEVENT
DTSTART:20181012T190000Z
DTEND:20181012T210000Z
X-MICROSOFT-CDO-ALLDAYEVENT:FALSE
SUMMARY:F&M Bank Bridgewater Branch Kid's Day
DESCRIPTION:Join us for Kid's Day!  We will have Grammies ice cream\, food vendors\, race cars\, Bridgewater Volunteer Fire & Rescue\, games\, and fall crafts.
X-ALT-DESC;FMTTYPE=text/html:<span style="font-size:11pt"><span style="font-family:calibri\,sans-serif"><span style="color:rgb(31\, 73\, 125)">Join us for Kid&rsquo\;s Day!&nbsp\; We will have Grammies ice cream\, food vendors\, race cars\, Bridgewater Volunteer Fire &amp\; Rescue\, games\, and fall crafts.&nbsp\; </span></span></span>
LOCATION:F&M Bridgewater Branch 100 Plaza Drive Bridgewater\, VA 22812
UID:e.2338.5902
SEQUENCE:3
DTSTAMP:20260420T091350Z
URL:https://chamber.hrchamber.org/events/details/f-m-bank-bridgewater-branch-kid-s-day-5902
END:VEVENT

END:VCALENDAR
