BEGIN:VCALENDAR
VERSION:2.0
PRODID:-//ChamberMaster//Event Calendar 2.0//EN
METHOD:PUBLISH
X-PUBLISHED-TTL:P3D
REFRESH-INTERVAL:P3D
CALSCALE:GREGORIAN
BEGIN:VEVENT
DTSTART:20190530T230000Z
DTEND:20190531T000000Z
X-MICROSOFT-CDO-ALLDAYEVENT:FALSE
SUMMARY:Exhibit Opening with Mayor Deanna Reed
DESCRIPTION:Join us on Thursday\, May 30th at 7pm for a reception to celebrate the opening of "Strong Men & Women in Virginia History\," a traveling exhibit honoring African-American leaders in Virginia.\n\n\n\nGuest of Honor will be Mayor Deanna Reed\, who is one of this year's recipients of the annual "Strong Men & Women in Virginia History" awards.\n\n\n\nIn addition\, the event will feature the unveiling of a new book of poetry and personal writings by students from the On the Road VOICES class. Two students from Thomas Harrison Middle School and Harrisonburg High School will read selections from the book.\n\n\n\nFollowing remarks by Mayor Reed\, attendees are invited to enjoy refreshments while exploring the exhibit which highlights the lives and accomplishments of all seven of this year's honorees. The reception is free and open to everyone\; students are especially encouraged to attend.\n\n\n\nThe "Strong Men & Women in Virginia History" exhibit will be on display at the Central Library in downtown Harrisonburg from May 30 through June 29. This exhibition from the Library of Virginia is made possible with support from Dominion Energy.
X-ALT-DESC;FMTTYPE=text/html:Join us on Thursday\, May 30th at 7pm for a reception to celebrate the opening of &quot\;Strong Men &amp\; Women in Virginia History\,&quot\; a traveling exhibit honoring African-American leaders in Virginia.<br />\n<br />\nGuest of Honor will be Mayor Deanna Reed\, who is one of this year&rsquo\;s recipients of the annual &quot\;Strong Men &amp\; Women in Virginia History&quot\; awards.<br />\n<br />\nIn addition\, the event will feature the unveiling of a new book of poetry and personal writings by students from the On the Road VOICES class. Two students from Thomas Harrison Middle School and Harrisonburg High School will read selections from the book.<br />\n<br />\nFollowing remarks by Mayor Reed\, attendees are invited to enjoy refreshments while exploring the exhibit which highlights the lives and accomplishments of all seven of this year&rsquo\;s honorees. The reception is free and open to everyone\; students are especially encouraged to attend.<br />\n<br />\nThe &quot\;Strong Men &amp\; Women in Virginia History&quot\; exhibit will be on display at the Central Library in downtown Harrisonburg from May 30 through June 29. This exhibition from the Library of Virginia is made possible with support from Dominion Energy.
LOCATION:
UID:e.2338.6598
SEQUENCE:3
DTSTAMP:20260419T224607Z
URL:https://chamber.hrchamber.org/events/details/exhibit-opening-with-mayor-deanna-reed-6598
END:VEVENT

END:VCALENDAR
