BEGIN:VCALENDAR
VERSION:2.0
PRODID:-//ChamberMaster//Event Calendar 2.0//EN
METHOD:PUBLISH
X-PUBLISHED-TTL:P3D
REFRESH-INTERVAL:P3D
CALSCALE:GREGORIAN
BEGIN:VEVENT
DTSTART:20170921T210000Z
DTEND:20170921T230000Z
X-MICROSOFT-CDO-ALLDAYEVENT:FALSE
SUMMARY:Evergreene Homes at Preston Lake BAH Event RSVP
DESCRIPTION:Evergreene Homes at Preston Lake Business After Hours
X-ALT-DESC;FMTTYPE=text/html:Evergreene Homes at Preston Lake Business After Hours
LOCATION:Evergreene Homes at Preston Lakes Vera Vista Path\, Harrisonburg\, VA 22801
UID:e.2338.1531
SEQUENCE:3
DTSTAMP:20260420T011445Z
URL:https://chamber.hrchamber.org/events/details/evergreene-homes-at-preston-lake-bah-event-rsvp-1531
END:VEVENT

END:VCALENDAR
