BEGIN:VCALENDAR
VERSION:2.0
PRODID:-//ChamberMaster//Event Calendar 2.0//EN
METHOD:PUBLISH
X-PUBLISHED-TTL:P3D
REFRESH-INTERVAL:P3D
CALSCALE:GREGORIAN
BEGIN:VEVENT
DTSTART:20190518T150000Z
DTEND:20190518T220000Z
X-MICROSOFT-CDO-ALLDAYEVENT:FALSE
SUMMARY:EPIC Fest- Beer\, Wine\, Music\, Food and Craft/Vendor Event
DESCRIPTION:
X-ALT-DESC;FMTTYPE=text/html:
LOCATION:Elkton\, Virginia 22827
UID:e.2338.6275
SEQUENCE:3
DTSTAMP:20260419T225107Z
URL:https://chamber.hrchamber.org/events/details/epic-fest-beer-wine-music-food-and-craft-vendor-event-6275
END:VEVENT

END:VCALENDAR
