BEGIN:VCALENDAR
VERSION:2.0
PRODID:-//ChamberMaster//Event Calendar 2.0//EN
METHOD:PUBLISH
X-PUBLISHED-TTL:P3D
REFRESH-INTERVAL:P3D
CALSCALE:GREGORIAN
BEGIN:VEVENT
DTSTART:20190518T150000Z
DTEND:20190518T230000Z
X-MICROSOFT-CDO-ALLDAYEVENT:FALSE
SUMMARY:EPIC Fest Beer & Wine Festival
DESCRIPTION:The Elkton Progressive Improvement Committee will host the 2nd Annual EPIC Fest Beer & Wine Festival on May 18\, 2019 from 11am-7pm.\n\nThere will be live entertainment\, with four bands performing throughout the day.  Attendees will be provided several food\, beer\, wine and non-alcoholic drink options.  Additionally\, there will be merchandise vendors and home brew demonstrations by the Friendly Fermenter. EPIC Fest will be located at the Elkton Volunteer Fire Company's activity grounds: 414 Southeast Side Highway\, Elkton VA.\n\nRegular ticket prices will be as follows: $25 in advance\, $30 at the gate\,  and $7 for underage and designated drivers. Ticket sales are not refundable or transferable. Children under 10 years of age will be admitted free. People who purchased a $25 or $30 ticket will receive a commemorative cup upon entering the event.\n\n \n\n\nPrice Information\n\n\n	$25 advance tickets\, $30 day of the event\, or $7 for designated drivers
X-ALT-DESC;FMTTYPE=text/html:<p>The Elkton Progressive Improvement Committee will host the 2nd Annual EPIC Fest Beer &amp\; Wine Festival on May 18\, 2019 from 11am-7pm.</p>\n\n<p>There will be live entertainment\, with four bands performing throughout the day. &nbsp\;Attendees will be provided several food\, beer\, wine and non-alcoholic drink options. &nbsp\;Additionally\, there will be merchandise vendors and home brew demonstrations by the Friendly Fermenter.&nbsp\;EPIC Fest will be located at the Elkton Volunteer Fire Company&rsquo\;s activity grounds: 414 Southeast Side Highway\, Elkton VA.</p>\n\n<p>Regular ticket prices will be as follows: $25 in advance\, $30 at the gate\, &nbsp\;and $7 for underage and designated drivers. Ticket sales are not refundable or transferable. Children under 10 years of age will be admitted free.&nbsp\;People who purchased a $25 or $30 ticket will receive a commemorative cup upon entering the event.</p>\n\n<p>&nbsp\;</p>\n\n<div>\n<h3>Price Information</h3>\n\n<ul>\n	<li>$25 advance tickets\, $30 day of the event\, or $7 for designated drivers</li>\n</ul>\n</div>\n
LOCATION:414 S. Eastside Highway\, Elkton\, VA 22827
UID:e.2338.6539
SEQUENCE:3
DTSTAMP:20260419T224828Z
URL:https://chamber.hrchamber.org/events/details/epic-fest-beer-wine-festival-6539
END:VEVENT

END:VCALENDAR
