BEGIN:VCALENDAR
VERSION:2.0
PRODID:-//ChamberMaster//Event Calendar 2.0//EN
METHOD:PUBLISH
X-PUBLISHED-TTL:P3D
REFRESH-INTERVAL:P3D
CALSCALE:GREGORIAN
BEGIN:VEVENT
DTSTART:20230520T173000Z
DTEND:20230520T233000Z
X-MICROSOFT-CDO-ALLDAYEVENT:FALSE
SUMMARY:EPIC Fest Beer & Wine Festival
DESCRIPTION:The Elkton Progressive Improvement Committee will host the 5th Annual EPIC Fest Beer & Wine Festival on May 20\, 2023 from 1:30-7:30pm.\n\nThere will be live entertainment\, with performances by Big City Band and The Mix. Attendees will be provided several food\, beer\, wine and non-alcoholic drink options. Additionally\, attendees can enjoy local vendors. EPIC Fest will be located at the Elkton Landing at 15880 Old Spotswood Trail\, Elkton\, VA.\n\nAdvance Tickets for sale on Eventbrite: $10\n\nD?ay of Event Price: $15\n\nB?eer Drink Tickets: $5\n\n\nPurchase Advance Tickets at: https://www.eventbrite.com/e/epic-fest-beer-wine-festival-tickets-615217350657?aff=erelexpmlt
X-ALT-DESC;FMTTYPE=text/html:<p>The Elkton Progressive Improvement Committee will host the 5th Annual EPIC Fest Beer &amp\; Wine Festival on May 20\, 2023 from 1:30-7:30pm.</p>\n\n<p>There will be live entertainment\, with performances by Big City Band and The Mix. Attendees will be provided several food\, beer\, wine and non-alcoholic drink options. Additionally\, attendees can enjoy local vendors. EPIC Fest will be located at the Elkton Landing at 15880 Old Spotswood Trail\, Elkton\, VA.</p>\n\n<p>Advance Tickets for sale on Eventbrite: $10</p>\n\n<p>D?ay of Event Price: $15</p>\n\n<p>B?eer Drink Tickets: $5</p>\n<br />\nPurchase Advance Tickets at:&nbsp\;https://www.eventbrite.com/e/epic-fest-beer-wine-festival-tickets-615217350657?aff=erelexpmlt
LOCATION:Elkton Landing 15880 Old Spotswood Trail\, Elkton\, VA
UID:e.2338.13665
SEQUENCE:3
DTSTAMP:20260424T162619Z
URL:https://chamber.hrchamber.org/events/details/epic-fest-beer-wine-festival-05-20-2023-13665
END:VEVENT

END:VCALENDAR
