BEGIN:VCALENDAR
VERSION:2.0
PRODID:-//ChamberMaster//Event Calendar 2.0//EN
METHOD:PUBLISH
X-PUBLISHED-TTL:P3D
REFRESH-INTERVAL:P3D
CALSCALE:GREGORIAN
BEGIN:VEVENT
DTSTART:20180519T150000Z
DTEND:20180519T220000Z
X-MICROSOFT-CDO-ALLDAYEVENT:FALSE
SUMMARY:EPIC Fest
DESCRIPTION:Elkton Progressive Improvement Committee's (EPIC) inaugural beer\, wine\, BBQ and music festival. http://elktonepic.com/epic-fest
X-ALT-DESC;FMTTYPE=text/html:Elkton Progressive Improvement Committee&#39\;s (EPIC) inaugural beer\, wine\, BBQ and music festival. http://elktonepic.com/epic-fest
LOCATION:Elkton Volunteer Fire Company Activity Grounds 414 Southeast Side Hwy Elkton\, VA 22827
UID:e.2338.3637
SEQUENCE:3
DTSTAMP:20260420T131215Z
URL:https://chamber.hrchamber.org/events/details/epic-fest-3637
END:VEVENT

END:VCALENDAR
