BEGIN:VCALENDAR
VERSION:2.0
PRODID:-//ChamberMaster//Event Calendar 2.0//EN
METHOD:PUBLISH
X-PUBLISHED-TTL:P3D
REFRESH-INTERVAL:P3D
CALSCALE:GREGORIAN
BEGIN:VEVENT
DTSTART:20160813T130000Z
DTEND:20160813T180000Z
X-MICROSOFT-CDO-ALLDAYEVENT:FALSE
SUMMARY:English Language Learner Training
DESCRIPTION:Interested in teaching or tutoring students learning English? Don't miss out on this training session! For more information or to register call 540-433-0505 or e-mail skylitbarbie@gmail.com!
X-ALT-DESC;FMTTYPE=text/html:Interested in teaching or tutoring students learning English? Don&#39\;t miss out on this training session! For more information or to register call 540-433-0505 or e-mail skylitbarbie@gmail.com!
LOCATION:Skyline Literacy 975 S. High St. Harrisonburg\, VA 22801
UID:e.2338.480
SEQUENCE:3
DTSTAMP:20260422T002304Z
URL:https://chamber.hrchamber.org/events/details/english-language-learner-training-08-13-2016-480
END:VEVENT

END:VCALENDAR
