BEGIN:VCALENDAR
VERSION:2.0
PRODID:-//ChamberMaster//Event Calendar 2.0//EN
METHOD:PUBLISH
X-PUBLISHED-TTL:P3D
REFRESH-INTERVAL:P3D
CALSCALE:GREGORIAN
BEGIN:VEVENT
DTSTART:20190417T100000Z
DTEND:20190418T000000Z
X-MICROSOFT-CDO-ALLDAYEVENT:FALSE
SUMMARY:Elkton Progressive Improvement Committe Great Community Give
DESCRIPTION:Elkton Progressive Improvement Committe is part of The Great Community Give for the First Time and we are looking for YOUR support.  EPIC have several events during the year to include the new EPIC Fest Beer & Wine Festival\, The Greater Elkton Golf Tournament\, The Annual 340 Yard Sale\,  Elkton Autumn Days and The Annual Christmas Home and Church Tour.  We are currently raising funds a permanent Virginia LOVEworks\, a Pavilion\, benches\, picnic tables\, landscaping and have added a Greenway Committee.  This would not be possible without the help of our community and the surrounding areas\, we are not just here for Elkton but every area who surrounds us.  We want the community to thrive!  EPIC looks to adding events to involve the youth of our commnunity throughout the year. We are adding a Scholarship for 2020.  Thank you for your support.
X-ALT-DESC;FMTTYPE=text/html:<p style="margin-left:0in\; margin-right:0in\; text-align:left"><span style="background-color:transparent\; color:rgb(51\, 51\, 51)\; font-family:&amp\;">Elkton Progressive Improvement Committe is part of The Great Community Give for the First Time and we are looking for YOUR support.&nbsp\; EPIC have several events during the year to include the new EPIC Fest Beer &amp\; Wine Festival\, The Greater Elkton Golf Tournament\, The Annual 340 Yard Sale\,&nbsp\; Elkton Autumn Days and The Annual Christmas Home and Church Tour.&nbsp\; We are currently raising funds a permanent Virginia LOVEworks\, a Pavilion\, benches\, picnic tables\, landscaping and have added a Greenway Committee.&nbsp\; This would not be possible without the help of our community and the surrounding areas\, we are not just here for Elkton but every area who surrounds us.&nbsp\; We want the community to thrive!&nbsp\; EPIC looks to adding events to involve the youth of our commnunity throughout the year. We are adding a Scholarship for 2020.&nbsp\; Thank you for your support.</span></p>\n
LOCATION:The Great Community Give
UID:e.2338.6565
SEQUENCE:3
DTSTAMP:20260420T001132Z
URL:https://chamber.hrchamber.org/events/details/elkton-progressive-improvement-committe-great-community-give-6565
END:VEVENT

END:VCALENDAR
