BEGIN:VCALENDAR
VERSION:2.0
PRODID:-//ChamberMaster//Event Calendar 2.0//EN
METHOD:PUBLISH
X-PUBLISHED-TTL:P3D
REFRESH-INTERVAL:P3D
CALSCALE:GREGORIAN
BEGIN:VEVENT
DTSTART:20151024T233000Z
DTEND:20151025T030000Z
X-MICROSOFT-CDO-ALLDAYEVENT:FALSE
SUMMARY:EAUS Annual Halloween Bash
DESCRIPTION:Dancing\, food and fun are on tap at the EAUS Annual Halloween Bash! Music and entertainment provided by DJ Chuck. Join us for costume contests with categories such as\, "funniest"\, "scariest"\, "best couple/group"\, and "Popped Some Tags"\, awarded for the best costume made using more than 50% of materials purchased at the EAUS Thrift Store. 50/50 tickets are available at the Thrift Store and will also be sold at the Bash\; drawing held at the Bash\, but you need not be present to win. Finger foods and soda provided\; BYOB. Adults only.
X-ALT-DESC;FMTTYPE=text/html:Dancing\, food and fun are on tap at the EAUS Annual Halloween Bash! Music and entertainment provided by DJ Chuck. Join us for costume contests with categories such as\, &quot\;funniest&quot\;\, &quot\;scariest&quot\;\, &quot\;best couple/group&quot\;\, and &quot\;Popped Some Tags&quot\;\, awarded for the best costume made using more than 50% of materials purchased at the EAUS Thrift Store. 50/50 tickets are available at the Thrift Store and will also be sold at the Bash\; drawing held at the Bash\, but you need not be present to win. Finger foods and soda provided\; BYOB. Adults only.
LOCATION:Elkton Area Community Center Blue & Gold Drive Elkton\, VA 22827
UID:e.2338.295
SEQUENCE:3
DTSTAMP:20260424T142916Z
URL:https://chamber.hrchamber.org/events/details/eaus-annual-halloween-bash-10-24-2015-295
END:VEVENT

END:VCALENDAR
