BEGIN:VCALENDAR
VERSION:2.0
PRODID:-//ChamberMaster//Event Calendar 2.0//EN
METHOD:PUBLISH
X-PUBLISHED-TTL:P3D
REFRESH-INTERVAL:P3D
CALSCALE:GREGORIAN
BEGIN:VEVENT
DTSTART:20180111T131500Z
DTEND:20180111T133000Z
X-MICROSOFT-CDO-ALLDAYEVENT:FALSE
SUMMARY:DuPont Community Credit Union Ribbon Cutting
DESCRIPTION:
X-ALT-DESC;FMTTYPE=text/html:
LOCATION:New location: 1900 Stone Spring Rd.\, Harrisonburg\, VA 22801.
UID:e.2338.3528
SEQUENCE:3
DTSTAMP:20260420T073056Z
URL:https://chamber.hrchamber.org/events/details/dupont-community-credit-union-ribbon-cutting-3528
END:VEVENT

END:VCALENDAR
