BEGIN:VCALENDAR
VERSION:2.0
PRODID:-//ChamberMaster//Event Calendar 2.0//EN
METHOD:PUBLISH
X-PUBLISHED-TTL:P3D
REFRESH-INTERVAL:P3D
CALSCALE:GREGORIAN
BEGIN:VEVENT
DTSTART:20180719T213000Z
DTEND:20180719T230000Z
X-MICROSOFT-CDO-ALLDAYEVENT:FALSE
SUMMARY:Dupont Community Credit Union · Business After Hours
DESCRIPTION:
X-ALT-DESC;FMTTYPE=text/html:
LOCATION:1900 Stone Spring Road Harrisonburg\, VA
UID:e.2338.3512
SEQUENCE:3
DTSTAMP:20260420T133914Z
URL:https://chamber.hrchamber.org/events/details/dupont-community-credit-union-business-after-hours-3512
END:VEVENT

END:VCALENDAR
