BEGIN:VCALENDAR
VERSION:2.0
PRODID:-//ChamberMaster//Event Calendar 2.0//EN
METHOD:PUBLISH
X-PUBLISHED-TTL:P3D
REFRESH-INTERVAL:P3D
CALSCALE:GREGORIAN
BEGIN:VEVENT
DTSTART:20161203T160000Z
DTEND:20161204T010000Z
X-MICROSOFT-CDO-ALLDAYEVENT:FALSE
SUMMARY:Downtown for the Holidays
DESCRIPTION:On Saturday\, Dec. 3rd\, celebrate the season and enjoy extended store hours\, creative deals and gift ideas\, holiday food and drink\, music and entertainment\, photos with Santa\, and plenty of festive cheer! Shop local at participating businesses and enter to win a $250 downtown gift certificate.
X-ALT-DESC;FMTTYPE=text/html:On Saturday\, Dec. 3rd\, celebrate the season and enjoy extended store hours\, creative deals and gift ideas\, holiday food and drink\, music and entertainment\, photos with Santa\, and plenty of festive cheer! Shop local at participating businesses and enter to win a $250 downtown gift certificate.
LOCATION:Downtown Harrisonburg
UID:e.2338.1512
SEQUENCE:3
DTSTAMP:20260421T184732Z
URL:https://chamber.hrchamber.org/events/details/downtown-for-the-holidays-1512
END:VEVENT

END:VCALENDAR
