BEGIN:VCALENDAR
VERSION:2.0
PRODID:-//ChamberMaster//Event Calendar 2.0//EN
METHOD:PUBLISH
X-PUBLISHED-TTL:P3D
REFRESH-INTERVAL:P3D
CALSCALE:GREGORIAN
BEGIN:VEVENT
DTSTART:20190605T140000Z
DTEND:20190605T180000Z
X-MICROSOFT-CDO-ALLDAYEVENT:FALSE
SUMMARY:Diversity in Business: Diversify Your Workforce to Strengthen Your Business
DESCRIPTION:Harrisonburg-Rockingham Chamber of Commerce Diversity Council presents:\n\nDiversity in Business: Diversify Your Workforce to Strengthen Your Business\n\n \n\nAgenda\n\nWelcome |Christopher Jones\, Harrisonburg City Council & WHSV Advertising\n\n\n\n10 am  \n\nAn Inspirational Moment of Living Proof | Presented by Laura Martinez Kyle\, General Manager of the Marriott Residence Inn\n\nWhat are the protected classes? | Presented by Cathleen Welsh\, Attorney at Law\, Flora Pettit\n\n\n\n11 am\n\nAbilities and Why Hire? | Sandra Quigg\, Director of Organizational Sustainability\, Friendship Industries & Chris Walker\, Veteran Employment Counselor\, Virginia Employment Commission\n\n\n\nNoon | Lunch Sponsored by Dynamic Aviation\n\n\n\n1 pm \n\nDo Work Incentives Work? | Aline Jackson-Diggs\, Placement Counselor\, Department of Aging and Rehabilitative Services & Jennifer Kester\, Assistant HR Director\, Recruitment and Employment Services James Madison University\n\n \n\n2 pm \n\nQuestion and Answer Panel | Dynamic Aviation\, Steven Automotive Group\, V.A.I.L.\, Bowl of Good\, Friendship Industries & James Madison University
X-ALT-DESC;FMTTYPE=text/html:<span style="font-size:18px\;">Harrisonburg-Rockingham Chamber of Commerce Diversity Council presents:<br />\n<em><strong><span style="color:#0000CD\;">Diversity in Business: Diversify Your Workforce to Strengthen Your Business</span></strong></em></span><br />\n&nbsp\;<br />\n<span style="font-size:14px\;"><u><strong>Agenda</strong></u><br />\n<strong><span style="font-size:12px\;">Welcome |</span></strong></span><span style="font-size:12px\;"><em>Christopher Jones\, Harrisonburg City Council &amp\; WHSV Advertising</em></span><br />\n<br />\n<span style="font-size:14px\;"><strong>10 am&nbsp\;&nbsp\;</strong></span><br />\n<span style="font-size:12px\;"><strong>An Inspirational Moment of Living Proof |&nbsp\;</strong>Presented by <em>Laura Martinez Kyle\, General Manager of the Marriott Residence Inn</em><br />\n<strong>What are the protected classes?</strong></span> |&nbsp\;<span style="font-size:12px\;">Presented by <em>Cathleen Welsh\, Attorney at Law\, Flora Pettit</em></span><br />\n<br />\n<span style="font-size:14px\;"><strong>11 am</strong></span><br />\n<span style="font-size:12px\;"><strong>Abilities and Why Hire?</strong> |&nbsp\;<em>Sandra Quigg\, Director of Organizational Sustainability\, Friendship Industries &amp\;&nbsp\;Chris Walker\, Veteran Employment Counselor\, Virginia Employment Commission</em></span><br />\n<br />\n<span style="font-size:14px\;"><strong>Noon |&nbsp\;</strong></span><strong><span style="font-size:12px\;">Lunch Sponsored by Dynamic Aviation</span></strong><br />\n<br />\n<span style="font-size:14px\;"><strong>1 pm&nbsp\;</strong></span><br />\n<span style="font-size:12px\;"><strong>Do Work Incentives Work? |&nbsp\;</strong></span><span style="font-size:12px\;"><em>Aline Jackson-Diggs\, Placement Counselor\, Department of Aging and Rehabilitative Services &amp\; Jennifer Kester\, Assistant HR Director\, Recruitment and Employment Services James Madison University</em></span><br />\n&nbsp\;<br />\n<strong><span style="font-size:14px\;">2 pm</span> </strong><br />\n<span style="font-size:12px\;"><strong>Question and Answer Panel |&nbsp\;</strong><em><span style="font-size:12px\;">Dynamic Aviation\,&nbsp\;<span style="font-size:12px\;">Steven Automotive Group\,&nbsp\;<span style="font-size:12px\;">V.A.I.L.\,&nbsp\;<span style="font-size:12px\;">Bowl of Good\, Friendship Industries &amp\;&nbsp\;<span style="font-size:12px\;">James Madison University</span></span></span></span></span></em></span> &nbsp\;
LOCATION:Lucy F. Simms Continuing Education Center 620 Simms Ave Harrisonburg\, VA 22801
UID:e.2338.6582
SEQUENCE:3
DTSTAMP:20260419T213053Z
URL:https://chamber.hrchamber.org/events/details/diversity-in-business-diversify-your-workforce-to-strengthen-your-business-6582
END:VEVENT

END:VCALENDAR
