BEGIN:VCALENDAR
VERSION:2.0
PRODID:-//ChamberMaster//Event Calendar 2.0//EN
METHOD:PUBLISH
X-PUBLISHED-TTL:P3D
REFRESH-INTERVAL:P3D
CALSCALE:GREGORIAN
BEGIN:VEVENT
DTSTART:20190417T193000Z
DTEND:20190417T220000Z
X-MICROSOFT-CDO-ALLDAYEVENT:FALSE
SUMMARY:Distracted Driving
DESCRIPTION:Distracted Driving is something that effects us all. InterChange Group\, Inc.. and LD&B Insurance and Financial Services are sponsoring this event so there will be no charge to join. The founder of Focusdriven\, David Teater will be the guest speaker at Hotel Madison & Shenandoah Valley Conference Center.
X-ALT-DESC;FMTTYPE=text/html:<span style="color: rgb(29\, 33\, 41)\; font-family: Helvetica\, Arial\, sans-serif\; font-size: 14px\;">Distracted Driving is something that effects us all.&nbsp\;</span><a class="profileLink" data-hovercard="/ajax/hovercard/page.php?id=201756593192966&amp\;extragetparams=%7B%22__tn__%22%3A%22%2CdK-R-R%22%2C%22eid%22%3A%22ARAm-hLjSYsPKwLDnou8vzp2_D0QrdftWccjvR2kniv-WQ_i5xlN-yM-FKXkYDirOCrYlaZ0riR5y-Pj%22%2C%22fref%22%3A%22mentions%22%7D" data-hovercard-prefer-more-content-show="1" href="https://www.facebook.com/interchangeco/?__tn__=K-R&amp\;eid=ARAm-hLjSYsPKwLDnou8vzp2_D0QrdftWccjvR2kniv-WQ_i5xlN-yM-FKXkYDirOCrYlaZ0riR5y-Pj&amp\;fref=mentions&amp\;__xts__%5B0%5D=68.ARDGgsneKaC9qlo-hoJbw3ez3JxOtI_z-bwwRdsAqXQWbvyOxSPgmlF-kakxAsyiOKfTDXLTr_4Yf-7xOUBdDEqg8E1BkHva0W2PjoKV8SxDz02XLmoRxBqTvMzyK9-Yig2XZgyJh_L1QQKV1pHACVFzmMnrAALtZjhaSbrax7enWN0AdSKsjxODWFyTJaYc6vijGp3PgLaui2U9mUxv00mDeDgXRCOI2Zm3_JxRUsWnfMB3lFdhcP1lH42zx0nyYNrd2kT3Z_TQWtLV_MGV6PT5ZbFR0VZkttdJ3q9lx6csJeOQBb2npyPeVj2nQUGNtwobk9MDS8yiUzhWKQ" style="color: rgb(54\, 88\, 153)\; cursor: pointer\; text-decoration-line: none\; font-family: Helvetica\, Arial\, sans-serif\; font-size: 14px\;">InterChange Group\, Inc.</a><span style="color: rgb(29\, 33\, 41)\; font-family: Helvetica\, Arial\, sans-serif\; font-size: 14px\;">. and&nbsp\;</span><a class="profileLink" data-hovercard="/ajax/hovercard/page.php?id=1435437183376907&amp\;extragetparams=%7B%22__tn__%22%3A%22%2CdK-R-R%22%2C%22eid%22%3A%22ARBLbR4oZ2cKDcciAwCOVp4x3M4N0tBGCDtYbewV8-BHAfPPCtdlnFDJKzgB4NRpj4IfcZxSOlzqHyuo%22%2C%22fref%22%3A%22mentions%22%7D" data-hovercard-prefer-more-content-show="1" href="https://www.facebook.com/LDBinsuranceandfinancialservices/?__tn__=K-R&amp\;eid=ARBLbR4oZ2cKDcciAwCOVp4x3M4N0tBGCDtYbewV8-BHAfPPCtdlnFDJKzgB4NRpj4IfcZxSOlzqHyuo&amp\;fref=mentions&amp\;__xts__%5B0%5D=68.ARDGgsneKaC9qlo-hoJbw3ez3JxOtI_z-bwwRdsAqXQWbvyOxSPgmlF-kakxAsyiOKfTDXLTr_4Yf-7xOUBdDEqg8E1BkHva0W2PjoKV8SxDz02XLmoRxBqTvMzyK9-Yig2XZgyJh_L1QQKV1pHACVFzmMnrAALtZjhaSbrax7enWN0AdSKsjxODWFyTJaYc6vijGp3PgLaui2U9mUxv00mDeDgXRCOI2Zm3_JxRUsWnfMB3lFdhcP1lH42zx0nyYNrd2kT3Z_TQWtLV_MGV6PT5ZbFR0VZkttdJ3q9lx6csJeOQBb2npyPeVj2nQUGNtwobk9MDS8yiUzhWKQ" style="color: rgb(54\, 88\, 153)\; cursor: pointer\; text-decoration-line: none\; font-family: Helvetica\, Arial\, sans-serif\; font-size: 14px\;">LD&amp\;B Insurance and Financial Services</a><span style="color: rgb(29\, 33\, 41)\; font-family: Helvetica\, Arial\, sans-serif\; font-size: 14px\;">&nbsp\;are sponsoring this event so there will be no charge to join. The founder of Focusdriven\, David Teater will be the guest speaker at&nbsp\;</span><a class="profileLink" data-hovercard="/ajax/hovercard/page.php?id=2076302415817077&amp\;extragetparams=%7B%22__tn__%22%3A%22%2CdK-R-R%22%2C%22eid%22%3A%22ARDhwvBlKE99RMAhh7l-KeJf7gaVxBmUXYFVjjb_uorcjNbRoDyEch3FCEDRa8wCoC3pfJlQivchZAVn%22%2C%22fref%22%3A%22mentions%22%7D" data-hovercard-prefer-more-content-show="1" href="https://www.facebook.com/pages/Hotel-Madison-Shenandoah-Valley-Conference-Center/2076302415817077?__tn__=K-R&amp\;eid=ARDhwvBlKE99RMAhh7l-KeJf7gaVxBmUXYFVjjb_uorcjNbRoDyEch3FCEDRa8wCoC3pfJlQivchZAVn&amp\;fref=mentions&amp\;__xts__%5B0%5D=68.ARDGgsneKaC9qlo-hoJbw3ez3JxOtI_z-bwwRdsAqXQWbvyOxSPgmlF-kakxAsyiOKfTDXLTr_4Yf-7xOUBdDEqg8E1BkHva0W2PjoKV8SxDz02XLmoRxBqTvMzyK9-Yig2XZgyJh_L1QQKV1pHACVFzmMnrAALtZjhaSbrax7enWN0AdSKsjxODWFyTJaYc6vijGp3PgLaui2U9mUxv00mDeDgXRCOI2Zm3_JxRUsWnfMB3lFdhcP1lH42zx0nyYNrd2kT3Z_TQWtLV_MGV6PT5ZbFR0VZkttdJ3q9lx6csJeOQBb2npyPeVj2nQUGNtwobk9MDS8yiUzhWKQ" style="color: rgb(54\, 88\, 153)\; cursor: pointer\; text-decoration-line: none\; font-family: Helvetica\, Arial\, sans-serif\; font-size: 14px\;">Hotel Madison &amp\; Shenandoah Valley Conference Center</a><span style="color: rgb(29\, 33\, 41)\; font-family: Helvetica\, Arial\, sans-serif\; font-size: 14px\;">.&nbsp\;</span>
LOCATION:Hotel Madison and Shenandoah Valley Conference Center 710 South Main Street Harrisonburg\, VA 22801
UID:e.2338.6513
SEQUENCE:3
DTSTAMP:20260420T000816Z
URL:https://chamber.hrchamber.org/events/details/distracted-driving-6513
END:VEVENT

END:VCALENDAR
