BEGIN:VCALENDAR
VERSION:2.0
PRODID:-//ChamberMaster//Event Calendar 2.0//EN
METHOD:PUBLISH
X-PUBLISHED-TTL:P3D
REFRESH-INTERVAL:P3D
CALSCALE:GREGORIAN
BEGIN:VEVENT
DTSTART:20180311T000000Z
DTEND:20180311T040000Z
X-MICROSOFT-CDO-ALLDAYEVENT:FALSE
SUMMARY:Disco Dogs and Caturday Night Fever
DESCRIPTION:Please join us for our first annual Disco Dogs and Caturday Night Fever Event! Come get your groove on at Brix and Columns Vineyard to tunes provided by the talented Mike Davis. Hors D'oeuvres and dessert is provided by the Dayton Catering Company and alcoholic and non-alcoholic beverage are included. There will be many dazzling raffle items to win such as jewelry\, art\, pet related items\, fun experiences\, gift cards\, and more! There is also a live auction filled with even bigger prizes. Come dance with us to the tunes of the 70's all for the great cause of helping animals right here in our community! All the proceeds from this premeire event benefit the orphaned animals in our local community.
X-ALT-DESC;FMTTYPE=text/html:<span style="font-size:12px"><span style="font-family:arial\,helvetica\,sans-serif">Please join us for our first annual Disco Dogs and Caturday Night Fever Event! Come get your groove on at Brix and Columns Vineyard to tunes provided by the talented Mike Davis. Hors D&#39\;oeuvres and dessert is provided by the Dayton Catering Company and alcoholic and non-alcoholic beverage are included. There will be many dazzling raffle items to win such as jewelry\, art\, pet related items\, fun experiences\, gift cards\, and more! There is also a live auction filled with even bigger prizes.&nbsp\;<span style="color:rgb(75\, 79\, 86)">Come dance with us to the tunes of the 70&#39\;s all for the great cause of helping animals right here in our community! All the proceeds from this premeire event benefit the orphaned animals in our local community.&nbsp\;</span></span></span>
LOCATION:Brix and Columns Vineyard 1501 Dave Berry Rd. McGaheysville\, VA 22840
UID:e.2338.3599
SEQUENCE:3
DTSTAMP:20260420T100959Z
URL:https://chamber.hrchamber.org/events/details/disco-dogs-and-caturday-night-fever-3599
END:VEVENT

END:VCALENDAR
