BEGIN:VCALENDAR
VERSION:2.0
PRODID:-//ChamberMaster//Event Calendar 2.0//EN
METHOD:PUBLISH
X-PUBLISHED-TTL:P3D
REFRESH-INTERVAL:P3D
CALSCALE:GREGORIAN
BEGIN:VEVENT
DTSTART:20180925T223000Z
DTEND:20180926T003000Z
X-MICROSOFT-CDO-ALLDAYEVENT:FALSE
SUMMARY:Dinner with the Doctors
DESCRIPTION:Do you suffer from Headaches\, Neck Pain\, Arm Pain\, Leg Pain\, Low Back Pain\, or Numbness? Have you thought about seeing a Chiropractor but didn't know where or when to go? Now is your chance\, join us for a fun and informative dinner where we will share information that could change your life about your health and well being. We look forward to seeing you there. The dinner is free for anyone who has never been to Dr. Cason's office and free for current patients who bring a friend or family member who is not already patient. RSVP on eventbrite (link above) or call us at 540-433-6909.
X-ALT-DESC;FMTTYPE=text/html:<span style="color:rgb(102\, 106\, 115)\; font-family:benton sans\,-apple-system\,blinkmacsystemfont\,roboto\,helvetica neue\,helvetica\,tahoma\,arial\,sans-serif\; font-size:15px">Do you suffer from Headaches\, Neck Pain\, Arm Pain\, Leg Pain\, Low Back Pain\, or Numbness? Have you thought about seeing a Chiropractor but didn&#39\;t know where or when to go? Now is your chance\, join us for a fun and informative dinner where we will share information that could change your life about your health and well being. We look forward to seeing you there. The dinner is free for anyone who has never been to Dr. Cason&#39\;s office and free for current patients who bring a friend or family member who is not already patient. RSVP on eventbrite (link above) or call us at 540-433-6909.</span><br />\n&nbsp\;
LOCATION:Wood Grill Restaurant Harrisonburg
UID:e.2338.6008
SEQUENCE:3
DTSTAMP:20260420T102454Z
URL:https://chamber.hrchamber.org/events/details/dinner-with-the-doctors-6008
END:VEVENT

END:VCALENDAR
