BEGIN:VCALENDAR
VERSION:2.0
PRODID:-//ChamberMaster//Event Calendar 2.0//EN
METHOD:PUBLISH
X-PUBLISHED-TTL:P3D
REFRESH-INTERVAL:P3D
CALSCALE:GREGORIAN
BEGIN:VEVENT
DTSTART:20181011T230000Z
DTEND:20181012T000000Z
X-MICROSOFT-CDO-ALLDAYEVENT:FALSE
SUMMARY:Deyerle Lecture - We Honor Those Who Served: African-American Soldiers in the Civil War
DESCRIPTION:The annual Deyerle Program Series on Local History features historians\, scholars and area experts who explore a broad range of subjects surrounding the history of the Shenandoah Valley.\n\nOn Thursday\, October 11th @ 7PM\, Robin Lyttle will discuss her book We Honor Those Who Served\, which examines the role of African American soldiers in the Civil War. Ms. Lyttle is founder and president of the Shenandoah Valley Black Heritage Project.
X-ALT-DESC;FMTTYPE=text/html:<div>\n<p>The annual Deyerle Program Series on Local History features historians\, scholars and area experts who explore a broad range of subjects surrounding the history of the Shenandoah Valley.</p>\n\n<p>On Thursday\, October 11th @ 7PM\, Robin Lyttle will discuss her book <em>We Honor Those Who Served\, </em>which examines the role of African American soldiers in the Civil War. Ms. Lyttle is founder and president of the Shenandoah Valley Black Heritage Project.</p>\n</div>\n
LOCATION:Massanutten Regional Library Central Library 174 S. Main St. Harrisonburg\, VA 22801
UID:e.2338.6062
SEQUENCE:3
DTSTAMP:20260420T091837Z
URL:https://chamber.hrchamber.org/events/details/deyerle-lecture-we-honor-those-who-served-african-american-soldiers-in-the-civil-war-6062
END:VEVENT

END:VCALENDAR
