BEGIN:VCALENDAR
VERSION:2.0
PRODID:-//ChamberMaster//Event Calendar 2.0//EN
METHOD:PUBLISH
X-PUBLISHED-TTL:P3D
REFRESH-INTERVAL:P3D
CALSCALE:GREGORIAN
BEGIN:VEVENT
DTSTART:20181018T230000Z
DTEND:20181019T000000Z
X-MICROSOFT-CDO-ALLDAYEVENT:FALSE
SUMMARY:Deyerle Lecture - Oh Shenandoah: Paintings of the Historic Valley & River
DESCRIPTION:The annual Deyerle Program Series on Local History features historians\, scholars and area experts who explore a broad range of subjects surrounding the history of the Shenandoah Valley.\n\nOn Thursday\, October 18th @ 7PM\, Andrei Kushnir will discuss his work and share images from his book Oh Shenandoah. Mr. Kushnir is a well-respected plein air artist who paints in a naturalistic realist style. A new exhibit of his work\, "Oh\, Shenandoah: Landscapes of Diversity\," will run from December 8\, 2018 through September 1\, 2019 at the Virginia Museum of History & Culture in Richmond.
X-ALT-DESC;FMTTYPE=text/html:<div>\n<p>The annual Deyerle Program Series on Local History features historians\, scholars and area experts who explore a broad range of subjects surrounding the history of the Shenandoah Valley.</p>\n\n<p>On Thursday\, October 18th @ 7PM\, Andrei Kushnir will discuss his work and share images from his book <em>Oh Shenandoah. </em>Mr. Kushnir is a well-respected plein air artist who paints in a naturalistic realist style. A new exhibit of his work\, &quot\;Oh\, Shenandoah: Landscapes of Diversity\,&quot\; will run from December 8\, 2018 through September 1\, 2019 at the Virginia Museum of History &amp\; Culture in Richmond.</p>\n</div>\n
LOCATION:Massanutten Regional Library Central Library 174 S. Main St. Harrisonburg\, VA 22801
UID:e.2338.6063
SEQUENCE:3
DTSTAMP:20260420T091700Z
URL:https://chamber.hrchamber.org/events/details/deyerle-lecture-oh-shenandoah-paintings-of-the-historic-valley-river-6063
END:VEVENT

END:VCALENDAR
