BEGIN:VCALENDAR
VERSION:2.0
PRODID:-//ChamberMaster//Event Calendar 2.0//EN
METHOD:PUBLISH
X-PUBLISHED-TTL:P3D
REFRESH-INTERVAL:P3D
CALSCALE:GREGORIAN
BEGIN:VEVENT
DTSTART:20181025T230000Z
DTEND:20181026T000000Z
X-MICROSOFT-CDO-ALLDAYEVENT:FALSE
SUMMARY:Deyerle Lecture - Ghost Stories of the Valley
DESCRIPTION:The annual Deyerle Program Series on Local History features historians\, scholars and area experts who explore a broad range of subjects surrounding the history of the Shenandoah Valley.\n\nJust in time for Halloween\, local storytellers Joan Swift and Susan Clark will join us on Thursday\, October 25th @ 7PM to share eerie tales from around the Shenandoah Valley that are certain to fright and delight. Appropriate for all ages.
X-ALT-DESC;FMTTYPE=text/html:<div>\n<p>The annual Deyerle Program Series on Local History features historians\, scholars and area experts who explore a broad range of subjects surrounding the history of the Shenandoah Valley.</p>\n\n<p>Just in time for Halloween\, local storytellers Joan Swift and Susan Clark will join us on Thursday\, October 25th @ 7PM to share eerie tales from around the Shenandoah Valley that are certain to fright and delight. Appropriate for all ages.</p>\n</div>\n
LOCATION:Massanutten Regional Library Central Library 174 S. Main St. Harrisonburg\, VA 22801
UID:e.2338.6064
SEQUENCE:3
DTSTAMP:20260420T091350Z
URL:https://chamber.hrchamber.org/events/details/deyerle-lecture-ghost-stories-of-the-valley-6064
END:VEVENT

END:VCALENDAR
