BEGIN:VCALENDAR
VERSION:2.0
PRODID:-//ChamberMaster//Event Calendar 2.0//EN
METHOD:PUBLISH
X-PUBLISHED-TTL:P3D
REFRESH-INTERVAL:P3D
CALSCALE:GREGORIAN
BEGIN:VEVENT
DTSTART:20170815T133000Z
DTEND:20170815T140000Z
X-MICROSOFT-CDO-ALLDAYEVENT:FALSE
SUMMARY:Department for Aging and Rehabilitative Services Ribbon Cutting
DESCRIPTION:
X-ALT-DESC;FMTTYPE=text/html:
LOCATION:351 North Mason Street\, Suite 109 Harrisonburg\, VA 22802
UID:e.2338.3208
SEQUENCE:3
DTSTAMP:20260419T234811Z
URL:https://chamber.hrchamber.org/events/details/department-for-aging-and-rehabilitative-services-ribbon-cutting-3208
END:VEVENT

END:VCALENDAR
