BEGIN:VCALENDAR
VERSION:2.0
PRODID:-//ChamberMaster//Event Calendar 2.0//EN
METHOD:PUBLISH
X-PUBLISHED-TTL:P3D
REFRESH-INTERVAL:P3D
CALSCALE:GREGORIAN
BEGIN:VEVENT
DTSTART:20170916T120000Z
DTEND:20170916T210000Z
X-MICROSOFT-CDO-ALLDAYEVENT:FALSE
SUMMARY:Dentistry From The Heart
DESCRIPTION:Mountain View Dental is hosting our 5th Annual Dentistry From The Heart Event!  Saturday\, September 16\, 2017 our staff and other volunteering doctors will be providing free services to those in the community who do not have access to regular dental care as well as those who can not afford it.  We gaurantee to see the first 100 patients.  \n\nYou must be 18 years or older to receive treatment this day
X-ALT-DESC;FMTTYPE=text/html:Mountain View Dental is hosting our 5th Annual Dentistry From The Heart Event! &nbsp\;Saturday\, September 16\, 2017 our staff and other volunteering doctors will be providing free services to those in the community who do not have access to regular dental care as well as those who can not afford it. &nbsp\;We gaurantee to see the first 100 patients. &nbsp\;<br />\nYou must be 18 years or older to receive treatment this day
LOCATION:Mountain View Dental Team 4100 Quarles Court Harrisonburg\, VA 22801
UID:e.2338.3220
SEQUENCE:3
DTSTAMP:20260420T011123Z
URL:https://chamber.hrchamber.org/events/details/dentistry-from-the-heart-3220
END:VEVENT

END:VCALENDAR
