BEGIN:VCALENDAR
VERSION:2.0
PRODID:-//ChamberMaster//Event Calendar 2.0//EN
METHOD:PUBLISH
X-PUBLISHED-TTL:P3D
REFRESH-INTERVAL:P3D
CALSCALE:GREGORIAN
BEGIN:VEVENT
DTSTART:20171026T170000Z
DTEND:20171026T210000Z
X-MICROSOFT-CDO-ALLDAYEVENT:FALSE
SUMMARY:CyberSecurity Awareness for Businesses 3.0
DESCRIPTION:How protected is your small business? \n\nJoin the conversation today around all things cyber.\n\n \n\nKeynote Speaker Carlos Solari served in the US Army during the Cold War\, was a Senior Executive in the FBI\, and was the Chief Information Officer for the White House following 9/11. He has seen a few things - learned a great deal - and\, with his commercial experience\, brings a wealth of knowledge and some great stories about the problem of cyber technologies and cyber security in a wide range of industries.\n\n    \n\nAn author as well as a warm and engaging speaker\, Carlos brings context to the seemingly overwhelming concept of cyber security from his own real-life experiences and relates how those experiences apply to companies doing business in the Shenandoah Valley\, with a demonstration of how to operate and how effective protection will prevent malware from having an impact on your business.\n\n   \n\nAlso on the Agenda: \n\nThe Shenandoah Valley cyber-scene with guests from local tech companies\; the Virginia SBDC's on-line tool for tips\, resources\, and cyber-information for your business\; and information on how James Madison University and Blue Ridge Community College are helping businesses meet these challenges.\n\n \n\nThis event is brought to you at NO Fee from your SBDC\, the Shenandoah Valley Technology Council\, and the U.S. Small Business Administration.\n\n\n\nRegister: http://tinyurl.com/CyberSecOct26
X-ALT-DESC;FMTTYPE=text/html:<strong><span style="color:rgb(98\, 98\, 98)\; font-family:arial\,helvetica\,sans-serif\; font-size:12px">How protected is your small business?&nbsp\;</span><br />\n<span style="color:rgb(98\, 98\, 98)\; font-family:arial\,helvetica\,sans-serif\; font-size:12px">Join the conversation today around all things cyber.</span></strong><br />\n<span style="color:rgb(98\, 98\, 98)\; font-family:arial\,helvetica\,sans-serif\; font-size:12px">&nbsp\;</span><br />\n<span style="color:rgb(98\, 98\, 98)\; font-family:arial\,helvetica\,sans-serif\; font-size:12px">Keynote Speaker Carlos Solari served in the US Army during the Cold War\, was a Senior Executive in the FBI\, and was the Chief Information Officer for the White House following 9/11. He has seen a few things - learned a great deal - and\, with his commercial experience\, brings a wealth of knowledge and some great stories about the problem of cyber technologies and cyber security in a wide range of industries.</span><br />\n<span style="color:rgb(98\, 98\, 98)\; font-family:arial\,helvetica\,sans-serif\; font-size:12px">&nbsp\;&nbsp\;&nbsp\;&nbsp\;</span><br />\n<span style="color:rgb(98\, 98\, 98)\; font-family:arial\,helvetica\,sans-serif\; font-size:12px">An author as well as a warm and engaging speaker\, Carlos brings context to the seemingly overwhelming concept of cyber security from his own real-life experiences and relates how those experiences apply to companies doing business in the Shenandoah Valley\, with a demonstration of how to operate and how effective protection will prevent malware from having an impact on your business.</span><br />\n<span style="color:rgb(98\, 98\, 98)\; font-family:arial\,helvetica\,sans-serif\; font-size:12px">&nbsp\;&nbsp\;&nbsp\;</span><br />\n<strong><span style="color:rgb(98\, 98\, 98)\; font-family:arial\,helvetica\,sans-serif\; font-size:12px">Also on the Agenda:&nbsp\;</span></strong><br />\n<span style="color:rgb(98\, 98\, 98)\; font-family:arial\,helvetica\,sans-serif\; font-size:12px">The Shenandoah Valley cyber-scene with guests from local tech companies\; the Virginia SBDC&#39\;s on-line tool for tips\, resources\, and cyber-information for your business\; and information on how James Madison University and Blue Ridge Community College are helping businesses meet these challenges.</span><br />\n<span style="color:rgb(98\, 98\, 98)\; font-family:arial\,helvetica\,sans-serif\; font-size:12px">&nbsp\;</span><br />\n<span style="color:rgb(98\, 98\, 98)\; font-family:arial\,helvetica\,sans-serif\; font-size:12px">This event is brought to you at NO Fee from your SBDC\, the Shenandoah Valley Technology Council\, and the U.S. Small Business Administration.</span><br />\n<br />\n<strong>Register:&nbsp\;<a href="http://www.valleysbdc.org/event/cybersecurity-awareness-for-businesses-3/?instance_id=285782" style="color: rgb(81\, 146\, 208)\; text-decoration-line: none\;" target="_blank" title="Register for Oct. 26\, 2017 Event">http://tinyurl.com/CyberSecOct26</a></strong>
LOCATION:DoubleTree Harrisonburg 1400 E Market St Harrisonburg\, VA 22801
UID:e.2338.3265
SEQUENCE:3
DTSTAMP:20260420T024400Z
URL:https://chamber.hrchamber.org/events/details/cybersecurity-awareness-for-businesses-3-0-3265
END:VEVENT

END:VCALENDAR
