BEGIN:VCALENDAR
VERSION:2.0
PRODID:-//ChamberMaster//Event Calendar 2.0//EN
METHOD:PUBLISH
X-PUBLISHED-TTL:P3D
REFRESH-INTERVAL:P3D
CALSCALE:GREGORIAN
BEGIN:VEVENT
DTSTART;VALUE=DATE:20180401
DTEND;VALUE=DATE:20180422
TRANSP:TRANSPARENT
X-MICROSOFT-CDO-ALLDAYEVENT:TRUE
SUMMARY:Customer Appreciation Day
DESCRIPTION:Come join us as we say thank you to all of our wonderful customers and donors\, by offering 25% off your total purchase\, hourly door prizes and free refreshments.
X-ALT-DESC;FMTTYPE=text/html:Come join us as we say thank you to all of our wonderful customers and donors\, by offering 25% off your total purchase\, hourly door prizes and free refreshments.
LOCATION:Blue Ridge Hospice Thrift Shop Behind the Valley Mall @ 182 Neff Avenue in Harrisonburg
UID:e.2338.4750
SEQUENCE:3
DTSTAMP:20260420T113701Z
URL:https://chamber.hrchamber.org/events/details/customer-appreciation-day-4750
END:VEVENT

END:VCALENDAR
