BEGIN:VCALENDAR
VERSION:2.0
PRODID:-//ChamberMaster//Event Calendar 2.0//EN
METHOD:PUBLISH
X-PUBLISHED-TTL:P3D
REFRESH-INTERVAL:P3D
CALSCALE:GREGORIAN
BEGIN:VEVENT
DTSTART;VALUE=DATE:20170520
DTEND;VALUE=DATE:20170521
TRANSP:TRANSPARENT
X-MICROSOFT-CDO-ALLDAYEVENT:TRUE
SUMMARY:Crusher Run - Benefit for CASA
DESCRIPTION:The Harrisonburg-Rockingham Chamber Leadership is helping organize the Crusher Run 5K that will benefit CASA For Children. The Crusher Run 5K gives you the rare experience of running/walking the terrain at Frazier Quarry located just five short miles from downtown Harrisonburg. All skill levels are welcome at this chip timed trail adventure that features live music amplified by the natural acoustics at the quarry\, a short uphill climb and a backdrop unlike any 5K you've ever experienced.
X-ALT-DESC;FMTTYPE=text/html:<span style="color:black\;"><span style="font-family:trebuchet ms\,sans-serif\;"><span style="font-size:10.0pt\;">The Harrisonburg-Rockingham Chamber Leadership is helping organize the Crusher Run 5K that will benefit CASA For Children. The Crusher Run 5K&nbsp\;gives you the rare experience of running/walking the terrain at Frazier Quarry located just five short miles from downtown Harrisonburg. All skill levels are welcome at this chip timed trail adventure that features live music amplified by the natural acoustics at the quarry\, a short uphill climb and a backdrop unlike any 5K you&#39\;ve ever experienced. </span></span></span>
LOCATION:
UID:e.2338.2681
SEQUENCE:3
DTSTAMP:20260419T191731Z
URL:https://chamber.hrchamber.org/events/details/crusher-run-benefit-for-casa-2681
END:VEVENT

END:VCALENDAR
