BEGIN:VCALENDAR
VERSION:2.0
PRODID:-//ChamberMaster//Event Calendar 2.0//EN
METHOD:PUBLISH
X-PUBLISHED-TTL:P3D
REFRESH-INTERVAL:P3D
CALSCALE:GREGORIAN
BEGIN:VEVENT
DTSTART:20170406T210000Z
DTEND:20170406T230000Z
X-MICROSOFT-CDO-ALLDAYEVENT:FALSE
SUMMARY:CrossKeys Vineyard BAH Event RSVP
DESCRIPTION:CrossKeys Vineyard Business After Hours
X-ALT-DESC;FMTTYPE=text/html:CrossKeys Vineyard Business After Hours
LOCATION:CrossKeys Vineyard 6011 E Timber Ridge Rd\, Mt Crawford\, VA 22841
UID:e.2338.1524
SEQUENCE:3
DTSTAMP:20260419T180948Z
URL:https://chamber.hrchamber.org/events/details/crosskeys-vineyard-bah-event-rsvp-1524
END:VEVENT

END:VCALENDAR
