BEGIN:VCALENDAR
VERSION:2.0
PRODID:-//ChamberMaster//Event Calendar 2.0//EN
METHOD:PUBLISH
X-PUBLISHED-TTL:P3D
REFRESH-INTERVAL:P3D
CALSCALE:GREGORIAN
BEGIN:VEVENT
DTSTART:20190917T120000Z
DTEND:20190917T133000Z
X-MICROSOFT-CDO-ALLDAYEVENT:FALSE
SUMMARY:Corporate Leadership Breakfast
DESCRIPTION:Join local business professionals to learn how Alzheimer's disease impacts your bottom line\, employees wellness\, and what you can do to make a difference through the community's most inspiring event!
X-ALT-DESC;FMTTYPE=text/html:Join local business professionals to learn how Alzheimer&#39\;s disease impacts your bottom line\, employees wellness\, and what you can do to make a difference through the community&#39\;s most inspiring event!
LOCATION:Spotswood Country Club 1980 Country Club Road Harrisonburg\, VA
UID:e.2338.7030
SEQUENCE:3
DTSTAMP:20260419T171719Z
URL:https://chamber.hrchamber.org/events/details/corporate-leadership-breakfast-7030
END:VEVENT

END:VCALENDAR
