BEGIN:VCALENDAR
VERSION:2.0
PRODID:-//ChamberMaster//Event Calendar 2.0//EN
METHOD:PUBLISH
X-PUBLISHED-TTL:P3D
REFRESH-INTERVAL:P3D
CALSCALE:GREGORIAN
BEGIN:VEVENT
DTSTART:20210507T230000Z
DTEND:20210508T010000Z
X-MICROSOFT-CDO-ALLDAYEVENT:FALSE
SUMMARY:CONCERT: Ears to the Ground
DESCRIPTION:Join Arts Incarnate in welcoming local Americana/Folk band Ears to the Ground to the stage\, with special opening guest Jessamyn Day. Concert free to the public. Donations accepted at the door.
X-ALT-DESC;FMTTYPE=text/html:Join Arts Incarnate in welcoming local Americana/Folk band Ears to the Ground to the stage\, with special opening guest Jessamyn Day. Concert free to the public. Donations accepted at the door.
LOCATION:292 N. Liberty Street Harrisonburg
UID:e.2338.10549
SEQUENCE:3
DTSTAMP:20260420T191303Z
URL:https://chamber.hrchamber.org/events/details/concert-ears-to-the-ground-10549
END:VEVENT

END:VCALENDAR
