BEGIN:VCALENDAR
VERSION:2.0
PRODID:-//ChamberMaster//Event Calendar 2.0//EN
METHOD:PUBLISH
X-PUBLISHED-TTL:P3D
REFRESH-INTERVAL:P3D
CALSCALE:GREGORIAN
BEGIN:VEVENT
DTSTART:20160917T200000Z
DTEND:20160917T230000Z
X-MICROSOFT-CDO-ALLDAYEVENT:FALSE
SUMMARY:Community Pork BBQ
DESCRIPTION:Blue Mountain Sunrise will be performing at Pleasant View Inc's Annual Community Pork BBQ Saturday\, September 17\, 2016 at Our Day Support Services Building: 151 Commerce Drive Harrisonburg\, Va. 22802 (BBQ will be moved indoors at same location if there is inclement weather). Pleasant View Inc. supports people with intellectual disabilities in our community through a variety of residential and day support service programs. Come support Pleasant View Inc and join us for music\, delicious BBQ prepared by Maynard Weaver and his team\, bake sale\, games\, and lots of fun. All proceeds support Pleasant View\, Inc programs. For more information call Pam Miller at 540-560-1134 or check us out our website (pleasantviewinc.org) or facebook (@pleasantviewinc). Price list: $3.50 per BBQ sandwich\, $8 per BBQ Plate: sandwich\, 2 sides (sides: baked beans\, macaroni & cheese\, and coleslaw)\, Hershey's Ice Cream cup\, and a drink\, and $12.00 per sandwich.
X-ALT-DESC;FMTTYPE=text/html:Blue Mountain Sunrise will be performing at Pleasant View Inc&#39\;s Annual Community Pork BBQ Saturday\, September 17\, 2016 at Our Day Support Services Building: 151 Commerce Drive Harrisonburg\, Va. 22802 (BBQ will be moved indoors at same location if there is inclement weather). Pleasant View Inc. supports people with intellectual disabilities in our community through a variety of residential and day support service programs. Come support Pleasant View Inc and join us for music\, delicious BBQ prepared by Maynard Weaver and his team\, bake sale\, games\, and lots of fun. All proceeds support Pleasant View\, Inc programs. For more information call Pam Miller at 540-560-1134 or check us out our website (pleasantviewinc.org) or facebook (@pleasantviewinc). Price list: $3.50 per BBQ sandwich\, $8 per BBQ Plate: sandwich\, 2 sides (sides: baked beans\, macaroni &amp\; cheese\, and coleslaw)\, Hershey&#39\;s Ice Cream cup\, and a drink\, and $12.00 per sandwich.
LOCATION:Pleasant View\, Inc. Harrisonburg Day Support Services Building 151 Commerce Drive Harrisonburg Va 22802
UID:e.2338.1494
SEQUENCE:3
DTSTAMP:20260421T230338Z
URL:https://chamber.hrchamber.org/events/details/community-pork-bbq-1494
END:VEVENT

END:VCALENDAR
