BEGIN:VCALENDAR
VERSION:2.0
PRODID:-//ChamberMaster//Event Calendar 2.0//EN
METHOD:PUBLISH
X-PUBLISHED-TTL:P3D
REFRESH-INTERVAL:P3D
CALSCALE:GREGORIAN
BEGIN:VEVENT
DTSTART:20171203T210000Z
DTEND:20171203T230000Z
X-MICROSOFT-CDO-ALLDAYEVENT:FALSE
SUMMARY:Community Carol Sing !
DESCRIPTION:WHAT: Singing and playing of the Seasonal Favorites\n\n\n\nWHEN: Sunday\, December 3rd at 4:00 p.m.\n\n\n\nWHERE: Bridgewater Presbyterian Church\n\n\n\nWHO: featuring Adair McConnell or organ and Lacey Johnson on piano\n\n\n\nWHY: Benefit for Bridgewater Historical Society\; free-will offering received.\n\n\n\n        This is an event to celebrate the holiday season\, welcome our neighbors and support the Historical Society.\n\n        We are providing refreshments following the sing so watch for a sign up.\n\n\n\nhttp://www.bridgewaterpc.com/
X-ALT-DESC;FMTTYPE=text/html:WHAT: Singing&nbsp\;and playing of the Seasonal Favorites<br />\n<br />\nWHEN: Sunday\, December 3rd at 4:00 p.m.<br />\n<br />\nWHERE: Bridgewater Presbyterian Church<br />\n<br />\nWHO: featuring Adair McConnell or organ and Lacey Johnson on piano<br />\n<br />\nWHY: Benefit for Bridgewater Historical Society\; free-will offering received.<br />\n<br />\n<span style="color:#FF0000\;"><span style="font-size:14px\;"><em><strong>&nbsp\;&nbsp\;&nbsp\;&nbsp\;&nbsp\; &nbsp\; This is an event to celebrate the holiday season\, welcome our neighbors and support the Historical Society.<br />\n&nbsp\;&nbsp\;&nbsp\;&nbsp\;&nbsp\; &nbsp\; We are providing refreshments following the sing so watch for a sign up.</strong></em></span></span><br />\n<br />\n<a href="http://www.bridgewaterpc.com/">http://www.bridgewaterpc.com/</a>
LOCATION:
UID:e.2338.3330
SEQUENCE:3
DTSTAMP:20260420T072603Z
URL:https://chamber.hrchamber.org/events/details/community-carol-sing-3330
END:VEVENT

END:VCALENDAR
