BEGIN:VCALENDAR
VERSION:2.0
PRODID:-//ChamberMaster//Event Calendar 2.0//EN
METHOD:PUBLISH
X-PUBLISHED-TTL:P3D
REFRESH-INTERVAL:P3D
CALSCALE:GREGORIAN
BEGIN:VEVENT
DTSTART:20181023T193000Z
DTEND:20181023T210000Z
X-MICROSOFT-CDO-ALLDAYEVENT:FALSE
SUMMARY:Commonwealth Research Commercialization Fund (CRCF) Information Session
DESCRIPTION:Commonwealth Research Commercialization Fund (CRCF) Information Session\n\nJoin us to learn about funding available through the Commonwealth Research Commercialization Fund (CRCF)\, a Commonwealth of Virginia program managed by the Center for Innovative Technology (CIT). CRCF staff will be present at JMU's Lakeview Hall on October 23rd for a regional briefing and will answer questions. Use the link below to register.\n\n\n\nWebinar (WebEx)\n\nFor those unable to attend the information session at Lakeview Hall\, a webinar is available. Individuals can join using the WebEx app (incl. video) or can call in. Webex and parking info will be emailed to registered attendees closer to the event date (registration link below).\n\n\n\nGoal\n\nThe Commonwealth Research Commercialization Fund (CRCF) advances science- and technology-based research\, development\, and commercialization to drive economic growth in Virginia\, create and foster high-potential technology companies in the Commonwealth\, and to encourage and strengthen collaboration and partnerships between the public and private sector.\n\n \n\nRegister for October 23\, 2018 CRCF Information Session
X-ALT-DESC;FMTTYPE=text/html:<p><strong><span style="color:#333333"><span style="font-family:helvetica"><strong><span style="font-family:helvetica">Commonwealth Research Commercialization Fund (CRCF) Information Session</span></strong></span></span></strong><br />\n<span style="color:#333333"><span style="font-family:arial">Join us to learn about funding available through the Commonwealth Research Commercialization Fund (CRCF)\, a Commonwealth of Virginia program managed by the Center for Innovative Technology (CIT). </span></span><span style="color:#333333"><span style="font-family:helvetica">CRCF staff will be present at JMU&rsquo\;s&nbsp\;<strong><span style="font-family:helvetica">Lakeview Hall</span></strong>&nbsp\;on&nbsp\;<strong><span style="font-family:helvetica">October 23rd</span></strong>&nbsp\;for a regional briefing and will answer questions. Use the link below to register.</span></span><br />\n<br />\n<strong><span style="color:#333333"><span style="font-family:helvetica">Webinar (WebEx)</span></span></strong><br />\n<span style="color:#333333"><span style="font-family:helvetica">For those unable to attend the information session at Lakeview Hall\, a webinar is available. Individuals can join using the WebEx app (incl. video)&nbsp\;or can call in.&nbsp\;<em><span style="font-family:helvetica">Webex and parking info will be emailed to registered attendees closer to the event date</span></em>&nbsp\;(registration link below).</span></span><br />\n<br />\n<strong><span style="color:#333333"><span style="font-family:helvetica">Goal</span></span></strong><br />\n<span style="color:#333333"><span style="font-family:helvetica">The Commonwealth Research Commercialization Fund (CRCF) advances science- and technology-based research\, development\, and commercialization to drive economic growth in Virginia\, create and foster high-potential technology companies in the Commonwealth\, and to encourage and strengthen collaboration and partnerships between the public and private sector.</span></span><br />\n&nbsp\;</p>\n\n<p><a href="https://svtc-va.org/event/crcf-information-session/?instance_id=2116">Register for October 23\, 2018 CRCF Information Session</a><br />\n&nbsp\;</p>\n
LOCATION:JMU Lakeview Hall\, Room 1165 298 Port Republic Rd Harrisonburg\, VA 22807
UID:e.2338.6009
SEQUENCE:3
DTSTAMP:20260420T090844Z
URL:https://chamber.hrchamber.org/events/details/commonwealth-research-commercialization-fund-crcf-information-session-6009
END:VEVENT

END:VCALENDAR
