BEGIN:VCALENDAR
VERSION:2.0
PRODID:-//ChamberMaster//Event Calendar 2.0//EN
METHOD:PUBLISH
X-PUBLISHED-TTL:P3D
REFRESH-INTERVAL:P3D
CALSCALE:GREGORIAN
BEGIN:VEVENT
DTSTART:20171202T180000Z
DTEND:20171202T210000Z
X-MICROSOFT-CDO-ALLDAYEVENT:FALSE
SUMMARY:Cohousing Land-Walk & Celebration!
DESCRIPTION:Harrisonburg Cohousing has land! Come learn more about our project\, enjoy snacks and cake\, and ask questions. We'll have a kids play corner with Legos and activities. Then come visit the land. 1:00-3:00 open house. Leave at 3:00 to visit the land.\n\n \n\nWe can't build a neighborhood without neighbors. We need you! If you'd enjoy living in a cozy neighborhood with connected neighbors of all ages who enjoy some meals and planned and spontaneous activities together\, in a place where children can easily run to a friend's house or the neighborhood playground\, come to our celebration to learn more about our project!\n\n \n\nSee http://harrisonburgcohousing.org/events/ for more information.
X-ALT-DESC;FMTTYPE=text/html:<em>Harrisonburg Cohousing has land! Come learn more about our project\, enjoy snacks and cake\, and ask questions. We&#39\;ll have a kids play corner with Legos and activities. Then come visit the land.&nbsp\;1:00-3:00 open house. Leave at 3:00 to visit the land.</em><br />\n&nbsp\;<br />\n<em>We can&#39\;t build a neighborhood without neighbors. We need you! If you&#39\;d enjoy living in a cozy neighborhood with connected neighbors of all ages who enjoy some meals and planned and spontaneous activities together\, in a place where children can easily run to a friend&#39\;s house or the neighborhood playground\, come to our celebration to learn more about our project!</em><br />\n&nbsp\;<br />\n<em>See <a href="http://harrisonburgcohousing.org/events/"><span style="color:windowtext\;">http://harrisonburgcohousing.org/events/</span></a> for more information</em>.
LOCATION:Blue Ridge Architects 126 W. Bruce St. #102 Harrisonburg\, VA 22801
UID:e.2338.3350
SEQUENCE:3
DTSTAMP:20260420T072739Z
URL:https://chamber.hrchamber.org/events/details/cohousing-land-walk-celebration-3350
END:VEVENT

END:VCALENDAR
