BEGIN:VCALENDAR
VERSION:2.0
PRODID:-//ChamberMaster//Event Calendar 2.0//EN
METHOD:PUBLISH
X-PUBLISHED-TTL:P3D
REFRESH-INTERVAL:P3D
CALSCALE:GREGORIAN
BEGIN:VEVENT
DTSTART:20151010T130000Z
DTEND:20151010T170000Z
X-MICROSOFT-CDO-ALLDAYEVENT:FALSE
SUMMARY:Citizenship Preparation Tutor Training
DESCRIPTION:Give back to the community! Volunteer to help legal permanent residents prepare for the US citizenship test. Training is on October 10\, 2015! Register for this training by calling Skyline's office at 571-433-0505 or emailing skyline literacy@gmail.com.
X-ALT-DESC;FMTTYPE=text/html:Give back to the community! Volunteer to help legal permanent residents prepare for the US citizenship test. Training is on October 10\, 2015! Register for this training by calling Skyline&#39\;s office at 571-433-0505 or emailing skyline literacy@gmail.com.
LOCATION:Skyline Literacy 975 S. High Street Harrisonburg\, VA
UID:e.2338.297
SEQUENCE:3
DTSTAMP:20260424T142916Z
URL:https://chamber.hrchamber.org/events/details/citizenship-preparation-tutor-training-10-10-2015-297
END:VEVENT

END:VCALENDAR
