BEGIN:VCALENDAR
VERSION:2.0
PRODID:-//ChamberMaster//Event Calendar 2.0//EN
METHOD:PUBLISH
X-PUBLISHED-TTL:P3D
REFRESH-INTERVAL:P3D
CALSCALE:GREGORIAN
BEGIN:VEVENT
DTSTART:20160326T170000Z
DTEND:20160326T190000Z
X-MICROSOFT-CDO-ALLDAYEVENT:FALSE
SUMMARY:Cinema @ Central
DESCRIPTION:See this free showing of the 2010 Lewis Carroll adaptation starring Johnny Depp.
X-ALT-DESC;FMTTYPE=text/html:See this free showing of the 2010 Lewis Carroll adaptation starring Johnny Depp.
LOCATION:Central Library
UID:e.2338.360
SEQUENCE:3
DTSTAMP:20260422T075410Z
URL:https://chamber.hrchamber.org/events/details/cinema-central-03-26-2016-360
END:VEVENT

END:VCALENDAR
