BEGIN:VCALENDAR
VERSION:2.0
PRODID:-//ChamberMaster//Event Calendar 2.0//EN
METHOD:PUBLISH
X-PUBLISHED-TTL:P3D
REFRESH-INTERVAL:P3D
CALSCALE:GREGORIAN
BEGIN:VEVENT
DTSTART:20160319T170000Z
DTEND:20160319T190000Z
X-MICROSOFT-CDO-ALLDAYEVENT:FALSE
SUMMARY:Cinema @ Central
DESCRIPTION:Angelina Jolie stars in this 2014 adaptation of a fairy tale.
X-ALT-DESC;FMTTYPE=text/html:Angelina Jolie stars in this 2014 adaptation of a fairy tale.
LOCATION:Central Library
UID:e.2338.359
SEQUENCE:3
DTSTAMP:20260422T075452Z
URL:https://chamber.hrchamber.org/events/details/cinema-central-03-19-2016-359
END:VEVENT

END:VCALENDAR
