BEGIN:VCALENDAR
VERSION:2.0
PRODID:-//ChamberMaster//Event Calendar 2.0//EN
METHOD:PUBLISH
X-PUBLISHED-TTL:P3D
REFRESH-INTERVAL:P3D
CALSCALE:GREGORIAN
BEGIN:VEVENT
DTSTART:20160312T180000Z
DTEND:20160312T200000Z
X-MICROSOFT-CDO-ALLDAYEVENT:FALSE
SUMMARY:Cinema @ Central
DESCRIPTION:Enjoy a free showing of this 2015 adaptation of the classic fairy tale involving a glass slipper.
X-ALT-DESC;FMTTYPE=text/html:Enjoy a free showing of this 2015 adaptation of the classic fairy tale involving a glass slipper.
LOCATION:Central Library\, Harrisonburg
UID:e.2338.358
SEQUENCE:3
DTSTAMP:20260422T075512Z
URL:https://chamber.hrchamber.org/events/details/cinema-central-03-12-2016-358
END:VEVENT

END:VCALENDAR
