BEGIN:VCALENDAR
VERSION:2.0
PRODID:-//ChamberMaster//Event Calendar 2.0//EN
METHOD:PUBLISH
X-PUBLISHED-TTL:P3D
REFRESH-INTERVAL:P3D
CALSCALE:GREGORIAN
BEGIN:VEVENT
DTSTART:20160227T180000Z
DTEND:20160227T200000Z
X-MICROSOFT-CDO-ALLDAYEVENT:FALSE
SUMMARY:Cinema @ Central
DESCRIPTION:For contract reasons\, we cannot reveal the title of the film\, but you can find the title at www.mrlib.org. Go behind the scenes of the digital revolution and learn about the man at its epicenter.
X-ALT-DESC;FMTTYPE=text/html:For contract reasons\, we cannot reveal the title of the film\, but you can find the title at www.mrlib.org. Go behind the scenes of the digital revolution and learn about the man at its epicenter.
LOCATION:Central Library 174 S. Main Street Harrisonburg\, VA
UID:e.2338.330
SEQUENCE:3
DTSTAMP:20260422T092229Z
URL:https://chamber.hrchamber.org/events/details/cinema-central-02-27-2016-330
END:VEVENT

END:VCALENDAR
