BEGIN:VCALENDAR
VERSION:2.0
PRODID:-//ChamberMaster//Event Calendar 2.0//EN
METHOD:PUBLISH
X-PUBLISHED-TTL:P3D
REFRESH-INTERVAL:P3D
CALSCALE:GREGORIAN
BEGIN:VEVENT
DTSTART:20160220T180000Z
DTEND:20160220T200000Z
X-MICROSOFT-CDO-ALLDAYEVENT:FALSE
SUMMARY:Cinema @ Central
DESCRIPTION:For contract reasons\, we cannot reveal the title of the film\, but check the library website www.mrlib.org\, for title. This film pushes the boundaries of new visual technology. High-wire walker Phillipe Petit attempts to walk between the two World Trade Center towers in 1974.
X-ALT-DESC;FMTTYPE=text/html:For contract reasons\, we cannot reveal the title of the film\, but check the library website www.mrlib.org\, for title. This film pushes the boundaries of new visual technology. High-wire walker Phillipe Petit attempts to walk between the two World Trade Center towers in 1974.
LOCATION:Central Library 174 S. Main Street Harrisonburg\, VA
UID:e.2338.329
SEQUENCE:3
DTSTAMP:20260422T092043Z
URL:https://chamber.hrchamber.org/events/details/cinema-central-02-20-2016-329
END:VEVENT

END:VCALENDAR
