BEGIN:VCALENDAR
VERSION:2.0
PRODID:-//ChamberMaster//Event Calendar 2.0//EN
METHOD:PUBLISH
X-PUBLISHED-TTL:P3D
REFRESH-INTERVAL:P3D
CALSCALE:GREGORIAN
BEGIN:VEVENT
DTSTART:20160213T180000Z
DTEND:20160213T200000Z
X-MICROSOFT-CDO-ALLDAYEVENT:FALSE
SUMMARY:Cinema @ Central
DESCRIPTION:Check out this musical film version of the book The Wonderful Wizard of Oz by L. Frank Baum.
X-ALT-DESC;FMTTYPE=text/html:Check out this musical film version of the book The Wonderful Wizard of Oz by L. Frank Baum.
LOCATION:Central Library 174 S. Main Street Harrisonburg\, VA 22801
UID:e.2338.328
SEQUENCE:3
DTSTAMP:20260422T092313Z
URL:https://chamber.hrchamber.org/events/details/cinema-central-02-13-2016-328
END:VEVENT

END:VCALENDAR
