BEGIN:VCALENDAR
VERSION:2.0
PRODID:-//ChamberMaster//Event Calendar 2.0//EN
METHOD:PUBLISH
X-PUBLISHED-TTL:P3D
REFRESH-INTERVAL:P3D
CALSCALE:GREGORIAN
BEGIN:VEVENT
DTSTART:20170622T203000Z
DTEND:20170622T222000Z
X-MICROSOFT-CDO-ALLDAYEVENT:FALSE
SUMMARY:Churchill
DESCRIPTION:Tensions mount for the beleaguered British Prime Minister Winston Churchill (Brian Cox) in the days leading up to infamous Allied D-Day landings in Normandy\, France in June\, 1944. Fearful of repeating his deadly mistakes from World War I in the Battle of Gallipoli\, exhausted by years of war\, plagued by depression and obsessed with his historical destiny\, Churchill is reluctant to embark on the large-scale campaign\, one that the entire war effort hinges upon. Clashing with his Allied political opponents U.S. General Dwight D. Eisenhower (John Slattery) and British Field Marshal Bernard Law Montgomery (Julian Wadham)\, the troubled Churchill receives support and devotion from his wife\, the brilliant and unflappable Clementine Churchill (Miranda Richardson). With her strength and shrewdness\, "Clemmie" halts Winston's physical\, mental spiritual collapse and inspires him on to greatness. Rating: PG Runtime: 1 Hour 50 Minutes
X-ALT-DESC;FMTTYPE=text/html:Tensions mount for the beleaguered British Prime Minister Winston Churchill (Brian Cox) in the days leading up to infamous Allied D-Day landings in Normandy\, France in June\, 1944. Fearful of repeating his deadly mistakes from World War I in the Battle of Gallipoli\, exhausted by years of war\, plagued by depression and obsessed with his historical destiny\, Churchill is reluctant to embark on the large-scale campaign\, one that the entire war effort hinges upon. Clashing with his Allied political opponents U.S. General Dwight D. Eisenhower (John Slattery) and British Field Marshal Bernard Law Montgomery (Julian Wadham)\, the troubled Churchill receives support and devotion from his wife\, the brilliant and unflappable Clementine Churchill (Miranda Richardson). With her strength and shrewdness\, &quot\;Clemmie&quot\; halts Winston&#39\;s physical\, mental spiritual collapse and inspires him on to greatness. Rating: PG Runtime: 1 Hour 50 Minutes
LOCATION:Court Square Theater 41-F Court Square Harrisonburg\, VA 22801
UID:e.2338.3089
SEQUENCE:3
DTSTAMP:20260419T220716Z
URL:https://chamber.hrchamber.org/events/details/churchill-06-22-2017-3089
END:VEVENT

END:VCALENDAR
