BEGIN:VCALENDAR
VERSION:2.0
PRODID:-//ChamberMaster//Event Calendar 2.0//EN
METHOD:PUBLISH
X-PUBLISHED-TTL:P3D
REFRESH-INTERVAL:P3D
CALSCALE:GREGORIAN
BEGIN:VEVENT
DTSTART:20181127T230000Z
DTEND:20181128T010000Z
X-MICROSOFT-CDO-ALLDAYEVENT:FALSE
SUMMARY:Christmas Tree Lighting and Christmas Program
DESCRIPTION:Redeemer Classical School's Annual Christmas Tree Lighting and Christmas Program. Come and enjoy Christmas carols\, student performances\, warm drinks\, and sweet treats. All free of charge. It's a great way to kick-off the Christmas season. Bring your friends and family!
X-ALT-DESC;FMTTYPE=text/html:Redeemer Classical School&#39\;s Annual Christmas Tree Lighting and Christmas Program. Come and enjoy Christmas carols\, student performances\, warm drinks\, and sweet treats. All free of charge. It&#39\;s a great way to kick-off the Christmas season. Bring your friends and family!
LOCATION:1688 Indian Trail Road\, Keezletown\, VA 22832
UID:e.2338.6105
SEQUENCE:3
DTSTAMP:20260420T072528Z
URL:https://chamber.hrchamber.org/events/details/christmas-tree-lighting-and-christmas-program-6105
END:VEVENT

END:VCALENDAR
