BEGIN:VCALENDAR
VERSION:2.0
PRODID:-//ChamberMaster//Event Calendar 2.0//EN
METHOD:PUBLISH
X-PUBLISHED-TTL:P3D
REFRESH-INTERVAL:P3D
CALSCALE:GREGORIAN
BEGIN:VEVENT
DTSTART:20200112T190000Z
DTEND:20200112T210000Z
X-MICROSOFT-CDO-ALLDAYEVENT:FALSE
SUMMARY:Chocolate and Wine Pairing Party
DESCRIPTION:It's that time of year again! Our Chocolate and Wine Pairing Party is back for another year! This year the party will take place on Sunday\, January 12th from 2-4 pm in the Meeting House Banquet Room. Spend the afternoon sampling chocolate from Warfel's Sweet Shoppe and pairing it with our wines!\n\n\n\nAt the conclusion of the event all guests will receive a gift certificate good for one wine and chocolate tasting that they helped pick. The cost is $25 per person. Press Club is $20 (with a max of 2 tickets). Purchase tickets online or by calling the Tasting Room at (540) 828-0099. Reservations are required for this event.
X-ALT-DESC;FMTTYPE=text/html:<span style="color:rgb(29\, 33\, 41)\; font-family:arial\,helvetica\,sans-serif">It&rsquo\;s that time of year again! Our Chocolate and Wine Pairing Party is back for another year! This year the party will take place on Sunday\, January 12th from 2-4 pm in the Meeting House Banquet Room. Spend the afternoon sampling chocolate from&nbsp\;</span><a href="https://www.facebook.com/WarfelsSweetShoppe/" style="color: rgb(74\, 104\, 125)\; text-decoration-line: none\; font-family: Arial\, Helvetica\, sans-serif\;" target="_blank">Warfel&#39\;s Sweet Shoppe</a><span style="color:rgb(29\, 33\, 41)\; font-family:arial\,helvetica\,sans-serif">&nbsp\;and pairing it with our wines!</span><br />\n<br />\n<span style="color:rgb(29\, 33\, 41)\; font-family:arial\,helvetica\,sans-serif">At the conclusion of the event all guests will receive a gift certificate good for one wine and chocolate tasting that they helped pick. The cost is $25 per person. Press Club is $20 (with a max of 2 tickets). Purchase tickets online or by calling the Tasting Room at (540) 828-0099. Reservations are required for this event.</span>
LOCATION:Bluestone Vineyard 4828 Spring Creek Rd Bridgewater\, VA 22812
UID:e.2338.8289
SEQUENCE:3
DTSTAMP:20260419T121855Z
URL:https://chamber.hrchamber.org/events/details/chocolate-and-wine-pairing-party-8289
END:VEVENT

END:VCALENDAR
