BEGIN:VCALENDAR
VERSION:2.0
PRODID:-//ChamberMaster//Event Calendar 2.0//EN
METHOD:PUBLISH
X-PUBLISHED-TTL:P3D
REFRESH-INTERVAL:P3D
CALSCALE:GREGORIAN
BEGIN:VEVENT
DTSTART:20180717T160000Z
DTEND:20180717T173000Z
X-MICROSOFT-CDO-ALLDAYEVENT:FALSE
SUMMARY:Chiropractic Solutions Open House
DESCRIPTION:Join us for lunch on Tuesday\, July 17 and learn about some of the state-of-the-art tools we offer that takes the idea of Self-Care to a whole new level!\n\nWe will be rolling out our Roadmap to Functional Movement\, unveiling a new program previously only available to some of the world's most elite athletes that we'll soon be offering as a core part of our practice\, introducing you to the new Doctor joining our team\, and giving everyone who attends a very special discount opportunity! Click here to register.\n\nWe can't wait to see you there!
X-ALT-DESC;FMTTYPE=text/html:<p style="margin: 0px\; padding: 0px\; color: rgb(102\, 106\, 115)\; font-family: &quot\;Benton Sans&quot\;\, -apple-system\, BlinkMacSystemFont\, Roboto\, &quot\;Helvetica Neue&quot\;\, Helvetica\, Tahoma\, Arial\, sans-serif\; font-size: 15px\; letter-spacing: 0.5px\;">Join us for lunch on Tuesday\, July 17 and learn about some of the state-of-the-art tools we offer that takes the idea of Self-Care to a whole new level!</p>\n\n<p style="margin: 0px\; padding: 10px 0px 0px\; color: rgb(102\, 106\, 115)\; font-family: &quot\;Benton Sans&quot\;\, -apple-system\, BlinkMacSystemFont\, Roboto\, &quot\;Helvetica Neue&quot\;\, Helvetica\, Tahoma\, Arial\, sans-serif\; font-size: 15px\; letter-spacing: 0.5px\;">We will be rolling out our&nbsp\;<em style="padding-top: 0px\;">Ro</em><em>admap to Functional Movement</em>\, unveiling a new program previously only available to some of the world&#39\;s most elite athletes that we&#39\;ll soon be offering as a core part of our practice\, introducing you to the new Doctor joining our team\, and giving everyone who attends a very special discount opportunity! <a href="https://www.eventbrite.com/e/chiropractic-solutions-open-house-tickets-47134297954">Click here to register.</a></p>\n\n<p style="margin: 0px\; padding: 10px 0px 0px\; color: rgb(102\, 106\, 115)\; font-family: &quot\;Benton Sans&quot\;\, -apple-system\, BlinkMacSystemFont\, Roboto\, &quot\;Helvetica Neue&quot\;\, Helvetica\, Tahoma\, Arial\, sans-serif\; font-size: 15px\; letter-spacing: 0.5px\;">We can&#39\;t wait to see you there!</p>\n
LOCATION:Chiropractic Solutions 171 Neff Avenue Harrisonburg\, VA 22801
UID:e.2338.5869
SEQUENCE:3
DTSTAMP:20260420T133321Z
URL:https://chamber.hrchamber.org/events/details/chiropractic-solutions-open-house-5869
END:VEVENT

END:VCALENDAR
